BEGIN:VCALENDAR
VERSION:2.0
PRODID:-//Eastern Shore Master Naturalists - ECPv6.15.20//NONSGML v1.0//EN
CALSCALE:GREGORIAN
METHOD:PUBLISH
X-WR-CALNAME:Eastern Shore Master Naturalists
X-ORIGINAL-URL:https://www.esmn.org
X-WR-CALDESC:Events for Eastern Shore Master Naturalists
REFRESH-INTERVAL;VALUE=DURATION:PT1H
X-Robots-Tag:noindex
X-PUBLISHED-TTL:PT1H
BEGIN:VTIMEZONE
TZID:UTC
BEGIN:STANDARD
TZOFFSETFROM:+0000
TZOFFSETTO:+0000
TZNAME:UTC
DTSTART:20230101T000000
END:STANDARD
END:VTIMEZONE
BEGIN:VEVENT
DTSTART;TZID=UTC:20240515T160000
DTEND;TZID=UTC:20240515T200000
DTSTAMP:20260420T031023
CREATED:20240408T170559Z
LAST-MODIFIED:20240502T034908Z
UID:10000006-1715788800-1715803200@www.esmn.org
SUMMARY:ESMN Nature Walk and Chapter Picnic!
DESCRIPTION:Enjoy socializing with fellow Master Naturalists and the beauty of the natural setting. Take a nature walk and view wildlife along with a visit to several lovely seeps on the property. Come at 4:00 if you would like to join members on a guided walk which counts for 1 hour of Continuing Education. Bug repellent & sturdy shoes are advisable. \nDirections and additional details will be provided to members via email.
URL:https://www.esmn.org/event/esmn-nature-walk-and-chapter-picnic/
CATEGORIES:Chapter Member Continuing Education,Social/Other Events
ATTACH;FMTTYPE=image/jpeg:https://www.esmn.org/wp-content/uploads/2024/04/creek-image-at-dawn-good-reflection-scaled-e1714607335995.jpeg
END:VEVENT
END:VCALENDAR