BEGIN:VCALENDAR
VERSION:2.0
PRODID:-//Eastern Shore Master Naturalists - ECPv6.15.20//NONSGML v1.0//EN
CALSCALE:GREGORIAN
METHOD:PUBLISH
X-ORIGINAL-URL:https://www.esmn.org
X-WR-CALDESC:Events for Eastern Shore Master Naturalists
REFRESH-INTERVAL;VALUE=DURATION:PT1H
X-Robots-Tag:noindex
X-PUBLISHED-TTL:PT1H
BEGIN:VTIMEZONE
TZID:America/New_York
BEGIN:DAYLIGHT
TZOFFSETFROM:-0500
TZOFFSETTO:-0400
TZNAME:EDT
DTSTART:20240310T070000
END:DAYLIGHT
BEGIN:STANDARD
TZOFFSETFROM:-0400
TZOFFSETTO:-0500
TZNAME:EST
DTSTART:20241103T060000
END:STANDARD
BEGIN:DAYLIGHT
TZOFFSETFROM:-0500
TZOFFSETTO:-0400
TZNAME:EDT
DTSTART:20250309T070000
END:DAYLIGHT
BEGIN:STANDARD
TZOFFSETFROM:-0400
TZOFFSETTO:-0500
TZNAME:EST
DTSTART:20251102T060000
END:STANDARD
BEGIN:DAYLIGHT
TZOFFSETFROM:-0500
TZOFFSETTO:-0400
TZNAME:EDT
DTSTART:20260308T070000
END:DAYLIGHT
BEGIN:STANDARD
TZOFFSETFROM:-0400
TZOFFSETTO:-0500
TZNAME:EST
DTSTART:20261101T060000
END:STANDARD
END:VTIMEZONE
BEGIN:VEVENT
DTSTART;TZID=America/New_York:20251103T100000
DTEND;TZID=America/New_York:20251103T120000
DTSTAMP:20260420T031216
CREATED:20251023T212811Z
LAST-MODIFIED:20251023T224037Z
UID:10001372-1762164000-1762171200@www.esmn.org
SUMMARY:🧤 Natural Area Preserve Stewardship Days - Savage Neck Dunes NAP
DESCRIPTION:Please join us to remove invasive species at DCR Natural Area Preserves in November. Jennifer and Will are going to be there and take the lead on these\, focusing on invasive species removal and treatment (the latter only by DCR staff). There will be no RSVP forms supplied\, we’ll just hope for anywhere from 2 to 12 volunteers show up. \n\n\n\nSchedule – 10am to noon each day; meet in the NAP parking lot. \n\n\n\nMonday November 3 – Savage Neck Dunes NAP \n\n\n\nTuesday November 11 – Cape Charles NAP \n\n\n\nMonday November 17 – Magothy Bay.  \n\n\n\nWe will bring some hand tools and extra gloves\, but please bring your own if you have comfortable ones you like to use.  \n\n\n\nPlease check the weather and dress appropriately. If it is raining\, we will likely need to reschedule. If you have any blaze orange to wear\, that is recommended\, but not required. Ticks can still be active\, so please take measures to protect yourself.  \n\n\n\nPlease log your hours under the NAP Category in Better Impact.
URL:https://www.esmn.org/event/natural-area-preserve-stewardship-days/
LOCATION:Savage Neck Dunes Natural Area Preserve\, 2186 Savage Neck Rd. Drive\, Cape Charles\, VA\, United States
CATEGORIES:Stewardship,Volunteer Opportunity
ATTACH;FMTTYPE=image/jpeg:https://www.esmn.org/wp-content/uploads/2025/06/IMG_1810-scaled-e1761254418690.jpeg
END:VEVENT
BEGIN:VEVENT
DTSTART;TZID=America/New_York:20251111T100000
DTEND;TZID=America/New_York:20251111T120000
DTSTAMP:20260420T031216
CREATED:20251023T215715Z
LAST-MODIFIED:20251023T223948Z
UID:10001373-1762855200-1762862400@www.esmn.org
SUMMARY:🧤 Natural Area Preserve Workdays - Cape Charles
DESCRIPTION:Please join us to remove invasive species at DCR Natural Area Preserves in November. Jennifer and Will are going to be there and take the lead on these\, focusing on invasive species removal and treatment (the latter only by DCR staff). There will be no RSVP forms supplied\, we’ll just hope for anywhere from 2 to 12 volunteers show up. \n\n\n\nSchedule – 10am to noon each day; meet in the NAP parking lot. \n\n\n\nTuesday November 11 – Cape Charles NAP \n\n\n\nMonday November 17 – Magothy Bay.  \n\n\n\nWe will bring some hand tools and extra gloves\, but please bring your own if you have comfortable ones you like to use.  \n\n\n\nPlease check the weather and dress appropriately. If it is raining\, we will likely need to reschedule. If you have any blaze orange to wear\, that is recommended\, but not required. Ticks can still be active\, so please take measures to protect yourself.  \n\n\n\nPlease log your hours under the NAP Category in Better Impact.
URL:https://www.esmn.org/event/%f0%9f%a7%a4-natural-area-preserve-workdays-cape-charles/
LOCATION:Cape Charles Natural Area Preserve\, 301 Patrick Henry Avenue\, Cape Charles\, Virginia\, 23310\, United States
CATEGORIES:Stewardship,Volunteer Opportunity
ATTACH;FMTTYPE=image/jpeg:https://www.esmn.org/wp-content/uploads/2024/04/20240410_090428-scaled-e1744143970845.jpeg
END:VEVENT
BEGIN:VEVENT
DTSTART;TZID=America/New_York:20251117T100000
DTEND;TZID=America/New_York:20251117T120000
DTSTAMP:20260420T031216
CREATED:20251023T233727Z
LAST-MODIFIED:20251023T234530Z
UID:10001374-1763373600-1763380800@www.esmn.org
SUMMARY:🧤 Natural Area Preserve Workdays - Magothy Bay
DESCRIPTION:Please join us to remove invasive species at DCR Natural Area Preserves in November. Jennifer and Will are going to be there and take the lead on these\, focusing on invasive species removal and treatment (the latter only by DCR staff). There will be no RSVP forms supplied\, we’ll just hope for anywhere from 2 to 12 volunteers show up. \n\n\n\nSchedule – 10am to noon each day; meet in the NAP parking lot. \n\n\n\nMonday November 17 – Magothy Bay.  \n\n\n\nWe will bring some hand tools and extra gloves\, but please bring your own if you have comfortable ones you like to use.  \n\n\n\nPlease check the weather and dress appropriately. If it is raining\, we will likely need to reschedule. If you have any blaze orange to wear\, that is recommended\, but not required. Ticks can still be active\, so please take measures to protect yourself.  \n\n\n\nPlease log your hours under the NAP Category in Better Impact.
URL:https://www.esmn.org/event/%f0%9f%a7%a4-natural-area-preserve-workdays-magothy-bay/
LOCATION:Magothy Bay Natural Area Preserve\, 4829 Bulls Drive\, Cape Charles\, VA\, United States
CATEGORIES:Stewardship,Volunteer Opportunity
ATTACH;FMTTYPE=image/png:https://www.esmn.org/wp-content/uploads/2025/05/IMG_2533.png
END:VEVENT
END:VCALENDAR