BEGIN:VCALENDAR
VERSION:2.0
PRODID:-//Eastern Shore Master Naturalists - ECPv6.15.20//NONSGML v1.0//EN
CALSCALE:GREGORIAN
METHOD:PUBLISH
X-WR-CALNAME:Eastern Shore Master Naturalists
X-ORIGINAL-URL:https://www.esmn.org
X-WR-CALDESC:Events for Eastern Shore Master Naturalists
REFRESH-INTERVAL;VALUE=DURATION:PT1H
X-Robots-Tag:noindex
X-PUBLISHED-TTL:PT1H
BEGIN:VTIMEZONE
TZID:America/Halifax
BEGIN:DAYLIGHT
TZOFFSETFROM:-0400
TZOFFSETTO:-0300
TZNAME:ADT
DTSTART:20230312T060000
END:DAYLIGHT
BEGIN:STANDARD
TZOFFSETFROM:-0300
TZOFFSETTO:-0400
TZNAME:AST
DTSTART:20231105T050000
END:STANDARD
BEGIN:DAYLIGHT
TZOFFSETFROM:-0400
TZOFFSETTO:-0300
TZNAME:ADT
DTSTART:20240310T060000
END:DAYLIGHT
BEGIN:STANDARD
TZOFFSETFROM:-0300
TZOFFSETTO:-0400
TZNAME:AST
DTSTART:20241103T050000
END:STANDARD
BEGIN:DAYLIGHT
TZOFFSETFROM:-0400
TZOFFSETTO:-0300
TZNAME:ADT
DTSTART:20250309T060000
END:DAYLIGHT
BEGIN:STANDARD
TZOFFSETFROM:-0300
TZOFFSETTO:-0400
TZNAME:AST
DTSTART:20251102T050000
END:STANDARD
END:VTIMEZONE
BEGIN:VTIMEZONE
TZID:UTC
BEGIN:STANDARD
TZOFFSETFROM:+0000
TZOFFSETTO:+0000
TZNAME:UTC
DTSTART:20230101T000000
END:STANDARD
END:VTIMEZONE
BEGIN:VEVENT
DTSTART;TZID=America/Halifax:20241125T000000
DTEND;TZID=America/Halifax:20241125T235959
DTSTAMP:20260419T080646
CREATED:20240920T200112Z
LAST-MODIFIED:20240920T200112Z
UID:10000089-1732492800-1732579199@www.esmn.org
SUMMARY:🥾 E & O Volunteer Opportunity: VES Land Trust School Trips
DESCRIPTION:VES Land Trust has a few more Fall opportunities on the calendar! We are excited to offer Accomac and Northampton Elementary schools the opportunity to visit Brownsville Preserve and participate in a nature walk covering a variety of habitats\, living vs. nonliving\, and natural resources.\n\n\nMonday November 25th – Kegotank classes\n\nThe day will look something like this:  (** time adjustments will be made according to schools distance to Preserve) \n\n\n\n9:15/9:45 a.m. Students arrive\, buses drop off at the TNC office at Brownsville Preserve\,  11332 Brownsville Rd\, Nassawadox\, VA 23413\n9:45 a.m. Welcome and introduction by VESLT\n10 a.m. 1 mile nature walk with scavenger hunt on the Birding and Wildlife Trail\n11:15 a.m. Activities – identifying bones and shells\, art reflection/journaling based on the scavenger hunt\, platform looking over the marsh and to the Barrier Islands\n12 p.m. Lunch (please bring your lunch\, we will have some snacks available for volunteers)\n1 p.m. 1 mile walk back to the office where busses pick up\n\nIdeally\, we will have enough volunteers (6-8) to co-lead a class of students or to break the classes into smaller groups. I will also be looking for help leading the shell/bone identifying and marsh/Barrier Island viewing platform activities. For the shell/bone identification\, TNC lends us a bin of shells and bones collected locally. For the viewing platform\, the leader will take 5 students at a time up to look out over the marsh. You can talk about marsh habitat\, tides\, and the Barrier Islands with them. The classes will rotate through each activity. \n\n\nTo sign up or get more information please contact Sam Willis\, Community Outreach Coordinator.
URL:https://www.esmn.org/event/%f0%9f%a5%be-e-o-volunteer-opportunity-ves-land-trust-school-trips/
LOCATION:TNC Brownsville Preserve\, 11332 Brownsville Rd\, Nassawadox\, Virginia\, 23413
CATEGORIES:Education & Outreach,Volunteer Opportunity
ATTACH;FMTTYPE=image/png:https://www.esmn.org/wp-content/uploads/2024/09/IMG_2182-e1726861851129.png
END:VEVENT
BEGIN:VEVENT
DTSTART;TZID=America/Halifax:20241029T000000
DTEND;TZID=America/Halifax:20241030T235959
DTSTAMP:20260419T080646
CREATED:20240920T195232Z
LAST-MODIFIED:20240924T145206Z
UID:10000088-1730160000-1730332799@www.esmn.org
SUMMARY:🥾E & O Volunteer Opportunity: VES Land Trust School Trips
DESCRIPTION:VES Land Trust has a few more Fall opportunities on the calendar! We are excited to offer Accomac and Northampton Elementary schools the opportunity to visit Brownsville Preserve and participate in a nature walk covering a variety of habitats\, living vs. nonliving\, and natural resources.\n\n\nTuesday October 29 – Occohannock classes\nWednesday October 30 – Pungoteague classes\nMonday November 25th – Kegotank classes\n\nThe day will look something like this:  (** time adjustments will be made according to schools distance to Preserve) \n\n\n\n9:15/9:45 a.m. Students arrive\, buses drop off at the TNC office at Brownsville Preserve\,  11332 Brownsville Rd\, Nassawadox\, VA 23413\n9:45 a.m. Welcome and introduction by VESLT\n10 a.m. 1 mile nature walk with scavenger hunt on the Birding and Wildlife Trail\n11:15 a.m. Activities – identifying bones and shells\, art reflection/journaling based on the scavenger hunt\, platform looking over the marsh and to the Barrier Islands\n12 p.m. Lunch (please bring your lunch\, we will have some snacks available for volunteers)\n1 p.m. 1 mile walk back to the office where busses pick up\n\nIdeally\, we will have enough volunteers (6-8) to co-lead a class of students or to break the classes into smaller groups. I will also be looking for help leading the shell/bone identifying and marsh/Barrier Island viewing platform activities. For the shell/bone identification\, TNC lends us a bin of shells and bones collected locally. For the viewing platform\, the leader will take 5 students at a time up to look out over the marsh. You can talk about marsh habitat\, tides\, and the Barrier Islands with them. The classes will rotate through each activity. \n\n\nTo sign up or get more information please contact Sam Willis\, Community Outreach Coordinator. \n\nBetter Impact Category 15: Eastern Shore Land Trust Children’s Field Trips
URL:https://www.esmn.org/event/%f0%9f%a5%bee-o-volunteer-opportunity-ves-land-trust-school-trips/
LOCATION:TNC Brownsville Preserve\, 11332 Brownsville Rd\, Nassawadox\, Virginia\, 23413
CATEGORIES:Education & Outreach,Volunteer Opportunity
ATTACH;FMTTYPE=image/png:https://www.esmn.org/wp-content/uploads/2024/09/IMG_2182-e1726861851129.png
END:VEVENT
BEGIN:VEVENT
DTSTART;TZID=UTC:20241005T100000
DTEND;TZID=UTC:20241005T140000
DTSTAMP:20260419T080646
CREATED:20240411T034058Z
LAST-MODIFIED:20240906T121631Z
UID:10000019-1728122400-1728136800@www.esmn.org
SUMMARY:🧤 Ed & Outreach Volunteer Opportunity: Eastern Shore Ag Day
DESCRIPTION:Please contact Brenda Poist to sign-up or get more info. \nVolunteers needed: \n\n\n\n\n3 from 9-12\n3 from 12-3.\n\n\n\n\nVolunteers will: \n\nwork on crafts building butterflies with the kids (at least one per shift)\ndiscuss Master Naturalists with interested parties\ndiscuss the Nature of Native Plants and Butterflies by working with a matching game of butterflies.\n\n\nBetter Impact: Category 15 ESMN Tables/Booths at Eastern Shore Events
URL:https://www.esmn.org/event/education-outreach-opportunity-eastern-shore-ag-day-details-tbd/
LOCATION:Near Northampton County Parks & Rec\, 7247 Young Street\, Machipongo\, VA\, United States
CATEGORIES:Education & Outreach,Volunteer Opportunity
ATTACH;FMTTYPE=image/png:https://www.esmn.org/wp-content/uploads/2024/04/IMG_2093.png
END:VEVENT
BEGIN:VEVENT
DTSTART;TZID=UTC:20240524T090000
DTEND;TZID=UTC:20240524T130000
DTSTAMP:20260419T080646
CREATED:20240416T001235Z
LAST-MODIFIED:20240416T001335Z
UID:10000027-1716541200-1716555600@www.esmn.org
SUMMARY:Volunteer:  Eastern Shore Land Trust Student Field Trips
DESCRIPTION:The Eastern Shore Land Trust is seeking volunteers to conduct the following student field trips (Category 15: Eastern Shore Land Trust Children’s Field Trips): \n\nMay 7th – Metompkin Elementary 2nd grade (3 classes/6 volunteers)\nMay 9th – Metompkin Elementary 2nd grade (2 classes/4 volunteers)\nMay 20th – Kegotank Elementary 1st grade ESL (11 students/1-2 volunteers)\nMay 24th Kegotank Elementary 2nd grade ESL (17 students/2 volunteers)\n\nThe May 7th and May 9th field trips will be held at Grayson Chesser’s farm on the way to Saxis. The May 20th and 24th field trips will be held at Brownsville Preserve.\nThe day will look something like this: \n9:00/9:30 a.m. Students arrive \n9:30 a.m. Welcome and introduction by VESLT \n10 a.m. 1-2 mile nature walk with scavenger hunt \n11:15 a.m. Activities – identifying bones and shells\, art reflection/journaling based on the scavenger hunt \n12 p.m. Lunch (please bring your lunch\, we will have some snacks available for volunteers) \n1 p.m. Departure \nIdeally\, they will have enough volunteers to co-lead a class of students or to break the classes into smaller groups. They are also looking for help leading the activities. \nSecond grade is learning about habitat and life cycle. Deer and butterflies are popular and often the classroom example. \n\n\nTo sign up or get more information please contact Hali Plourde-Rogers  \n\n\n\n\nExecutive Director\, Virginia Eastern Shore Land Trust
URL:https://www.esmn.org/event/volunteer-opportunity-eastern-shore-land-trust-student-field-trips-4/
LOCATION:Virginia
CATEGORIES:Volunteer Opportunity
ATTACH;FMTTYPE=image/jpeg:https://www.esmn.org/wp-content/uploads/2024/04/tnc-brownsville-sign-e1713211849495.jpg
END:VEVENT
BEGIN:VEVENT
DTSTART;TZID=UTC:20240520T090000
DTEND;TZID=UTC:20240520T130000
DTSTAMP:20260419T080646
CREATED:20240416T000710Z
LAST-MODIFIED:20240416T001352Z
UID:10000026-1716195600-1716210000@www.esmn.org
SUMMARY:Volunteer:  Eastern Shore Land Trust Student Field Trips
DESCRIPTION:The Eastern Shore Land Trust is seeking volunteers to conduct the following student field trips (Category 15: Eastern Shore Land Trust Children’s Field Trips): \n\nMay 7th – Metompkin Elementary 2nd grade (3 classes/6 volunteers)\nMay 9th – Metompkin Elementary 2nd grade (2 classes/4 volunteers)\nMay 20th – Kegotank Elementary 1st grade ESL (11 students/1-2 volunteers)\nMay 24th Kegotank Elementary 2nd grade ESL (17 students/2 volunteers)\n\nThe May 7th and May 9th field trips will be held at Grayson Chesser’s farm on the way to Saxis. The May 20th and 24th field trips will be held at Brownsville Preserve.\nThe day will look something like this: \n9:00/9:30 a.m. Students arrive \n9:30 a.m. Welcome and introduction by VESLT \n10 a.m. 1-2 mile nature walk with scavenger hunt \n11:15 a.m. Activities – identifying bones and shells\, art reflection/journaling based on the scavenger hunt \n12 p.m. Lunch (please bring your lunch\, we will have some snacks available for volunteers) \n1 p.m. Departure \nIdeally\, we will have enough volunteers to co-lead a class of students or to break the classes into smaller groups. I will also be looking for help leading the activities. \nSecond grade is learning about habitat and life cycle. Deer and butterflies are popular and often the classroom example. \n\n\nTo sign up or get more information please contact Hali Plourde-Rogers  \n\n\n\n\nExecutive Director\, Virginia Eastern Shore Land Trust
URL:https://www.esmn.org/event/volunteer-opportunity-eastern-shore-land-trust-student-field-trips-3/
LOCATION:Virginia
CATEGORIES:Volunteer Opportunity
ATTACH;FMTTYPE=image/jpeg:https://www.esmn.org/wp-content/uploads/2024/04/IMG_1483.jpeg
END:VEVENT
BEGIN:VEVENT
DTSTART;TZID=UTC:20240507T090000
DTEND;TZID=UTC:20240507T130000
DTSTAMP:20260419T080647
CREATED:20240415T221219Z
LAST-MODIFIED:20240424T221729Z
UID:10000024-1715072400-1715086800@www.esmn.org
SUMMARY:Volunteer:  Eastern Shore Land Trust Student Field Trips
DESCRIPTION:The Eastern Shore Land Trust is seeking volunteers to conduct the following student field trips (Category 15: Eastern Shore Land Trust Children’s Field Trips): \n\nMay 7th – Metompkin Elementary 2nd grade (3 classes/6 volunteers)\nMay 9th – Metompkin Elementary 2nd grade (2 classes/4 volunteers)\nMay 20th – Kegotank Elementary 1st grade ESL (11 students/1-2 volunteers)\nMay 24th Kegotank Elementary 2nd grade ESL (17 students/2 volunteers)\n\nThe May 7th and May 9th field trips will be held at Grayson Chesser’s farm on the way to Saxis. The May 20th and 24th field trips will be held at Brownsville Preserve. \nThe day will look something like this: \n\n9:00/9:30 a.m. Students arrive\n9:30 a.m. Welcome and introduction by VESLT\n10 a.m. 1-2 mile nature walk with scavenger hunt\n11:15 a.m. Activities – identifying bones and shells\, art reflection/journaling based on the scavenger hunt\n12 p.m. Lunch (please bring your lunch\, we will have some snacks available for volunteers)\n1 p.m. Departure\n\nIdeally\, they will have enough volunteers to co-lead a class of students or to break the classes into smaller groups. They are also be looking for help leading the activities. \nSecond grade is learning about habitat and life cycle. Deer and butterflies are popular and often the classroom example. \n\n\nTo sign up or get more information please contact Hali Plourde-Rogers  \n\n\n\n\nExecutive Director\, Virginia Eastern Shore Land Trust
URL:https://www.esmn.org/event/volunteer-opportunity-eastern-shore-land-trust-student-field-trips/
LOCATION:Virginia
CATEGORIES:Volunteer Opportunity
ATTACH;FMTTYPE=image/jpeg:https://www.esmn.org/wp-content/uploads/2024/04/IMG_1509-scaled-e1713204601214.jpeg
END:VEVENT
END:VCALENDAR