BEGIN:VCALENDAR
VERSION:2.0
PRODID:-//Eastern Shore Master Naturalists - ECPv6.15.20//NONSGML v1.0//EN
CALSCALE:GREGORIAN
METHOD:PUBLISH
X-ORIGINAL-URL:https://www.esmn.org
X-WR-CALDESC:Events for Eastern Shore Master Naturalists
REFRESH-INTERVAL;VALUE=DURATION:PT1H
X-Robots-Tag:noindex
X-PUBLISHED-TTL:PT1H
BEGIN:VTIMEZONE
TZID:UTC
BEGIN:STANDARD
TZOFFSETFROM:+0000
TZOFFSETTO:+0000
TZNAME:UTC
DTSTART:20230101T000000
END:STANDARD
END:VTIMEZONE
BEGIN:VEVENT
DTSTART;TZID=UTC:20240604T090000
DTEND;TZID=UTC:20240604T120000
DTSTAMP:20260420T031211
CREATED:20240424T005613Z
LAST-MODIFIED:20240424T010159Z
UID:10000039-1717491600-1717502400@www.esmn.org
SUMMARY:Volunteer: Magothy Bay Trail Maintenance Day
DESCRIPTION:Meet at the parking lot at the end of Bulls Drive. Participants are encouraged to wear appropriate clothing (including shoes and hat) and bring the following as desired: \n\ntick and insect repellant\nsunscreen\nfavorite gloves and snips/loppers\nhydrating fluids and a snack.\n\nWe (DCR) will have extra gloves\, tools\, and a water cooler to refill bottles.  We will also have an AED and first aid kit on site\, but any unique needs (e.g.\, epi pen\, insulin) should be brought by a participant if it is possible that it will be needed. Most of the work will take place along the northern portion of the trail. If there are a lot of volunteers\, some folks may do some work with DCR staff nearer the berm or at the new pollinator area. \nBI Category 5/Trail Maintenance \n\n 
URL:https://www.esmn.org/event/volunteer-magothy-bay-trail-maintenance-day/
LOCATION:Magothy Bay Natural Area Preserve\, 4829 Bulls Drive\, Cape Charles\, VA\, United States
CATEGORIES:Volunteer Opportunity
ATTACH;FMTTYPE=image/jpeg:https://www.esmn.org/wp-content/uploads/2024/04/IMG_0770-scaled-e1713633064417.jpeg
END:VEVENT
END:VCALENDAR