BEGIN:VCALENDAR
VERSION:2.0
PRODID:-//Eastern Shore Master Naturalists - ECPv6.15.20//NONSGML v1.0//EN
CALSCALE:GREGORIAN
METHOD:PUBLISH
X-WR-CALNAME:Eastern Shore Master Naturalists
X-ORIGINAL-URL:https://www.esmn.org
X-WR-CALDESC:Events for Eastern Shore Master Naturalists
REFRESH-INTERVAL;VALUE=DURATION:PT1H
X-Robots-Tag:noindex
X-PUBLISHED-TTL:PT1H
BEGIN:VTIMEZONE
TZID:UTC
BEGIN:STANDARD
TZOFFSETFROM:+0000
TZOFFSETTO:+0000
TZNAME:UTC
DTSTART:20230101T000000
END:STANDARD
END:VTIMEZONE
BEGIN:VEVENT
DTSTART;TZID=UTC:20240427T120000
DTEND;TZID=UTC:20240427T140000
DTSTAMP:20260420T124236
CREATED:20240409T233258Z
LAST-MODIFIED:20240416T001525Z
UID:10000016-1714219200-1714226400@www.esmn.org
SUMMARY:Continuing Ed: Edward S. Brinkley Nature Preserve Walk
DESCRIPTION:REGISTRATION REQUIRED/SPACE IS LIMITED For more information. \nJoin members Martina Coker and Paul Anderson on this walk which “will take students through the varied habitats at the Edward S. Brinkley Preserve\, observing flora and fauna on the freshwater lake\, in the meadows\, along the forested paths\, and along the shoreline viewed from a seaside platform.” \nCategory 2: Continuing Education
URL:https://www.esmn.org/event/continuing-education-edward-s-brinkley-nature-preserve-walk/
LOCATION:Edward S. Brinkley Nature Preserve\, 20199 Seaside Road\, Cape Charles\, VA\, United States
CATEGORIES:Chapter Member Continuing Education
ATTACH;FMTTYPE=image/jpeg:https://www.esmn.org/wp-content/uploads/2024/04/IMG_1467.jpeg
END:VEVENT
END:VCALENDAR