BEGIN:VCALENDAR
VERSION:2.0
PRODID:-//Eastern Shore Master Naturalists - ECPv6.15.20//NONSGML v1.0//EN
CALSCALE:GREGORIAN
METHOD:PUBLISH
X-ORIGINAL-URL:https://www.esmn.org
X-WR-CALDESC:Events for Eastern Shore Master Naturalists
REFRESH-INTERVAL;VALUE=DURATION:PT1H
X-Robots-Tag:noindex
X-PUBLISHED-TTL:PT1H
BEGIN:VTIMEZONE
TZID:America/Halifax
BEGIN:DAYLIGHT
TZOFFSETFROM:-0400
TZOFFSETTO:-0300
TZNAME:ADT
DTSTART:20260308T060000
END:DAYLIGHT
BEGIN:STANDARD
TZOFFSETFROM:-0300
TZOFFSETTO:-0400
TZNAME:AST
DTSTART:20261101T050000
END:STANDARD
BEGIN:DAYLIGHT
TZOFFSETFROM:-0400
TZOFFSETTO:-0300
TZNAME:ADT
DTSTART:20270314T060000
END:DAYLIGHT
BEGIN:STANDARD
TZOFFSETFROM:-0300
TZOFFSETTO:-0400
TZNAME:AST
DTSTART:20271107T050000
END:STANDARD
BEGIN:DAYLIGHT
TZOFFSETFROM:-0400
TZOFFSETTO:-0300
TZNAME:ADT
DTSTART:20280312T060000
END:DAYLIGHT
BEGIN:STANDARD
TZOFFSETFROM:-0300
TZOFFSETTO:-0400
TZNAME:AST
DTSTART:20281105T050000
END:STANDARD
BEGIN:DAYLIGHT
TZOFFSETFROM:-0400
TZOFFSETTO:-0300
TZNAME:ADT
DTSTART:20290311T060000
END:DAYLIGHT
BEGIN:STANDARD
TZOFFSETFROM:-0300
TZOFFSETTO:-0400
TZNAME:AST
DTSTART:20291104T050000
END:STANDARD
BEGIN:DAYLIGHT
TZOFFSETFROM:-0400
TZOFFSETTO:-0300
TZNAME:ADT
DTSTART:20300310T060000
END:DAYLIGHT
BEGIN:STANDARD
TZOFFSETFROM:-0300
TZOFFSETTO:-0400
TZNAME:AST
DTSTART:20301103T050000
END:STANDARD
BEGIN:DAYLIGHT
TZOFFSETFROM:-0400
TZOFFSETTO:-0300
TZNAME:ADT
DTSTART:20310309T060000
END:DAYLIGHT
BEGIN:STANDARD
TZOFFSETFROM:-0300
TZOFFSETTO:-0400
TZNAME:AST
DTSTART:20311102T050000
END:STANDARD
BEGIN:DAYLIGHT
TZOFFSETFROM:-0400
TZOFFSETTO:-0300
TZNAME:ADT
DTSTART:20320314T060000
END:DAYLIGHT
BEGIN:STANDARD
TZOFFSETFROM:-0300
TZOFFSETTO:-0400
TZNAME:AST
DTSTART:20321107T050000
END:STANDARD
END:VTIMEZONE
BEGIN:VEVENT
DTSTART;TZID=America/Halifax:20270721T170000
DTEND;TZID=America/Halifax:20270721T190000
DTSTAMP:20260421T004127
CREATED:20260328T012854Z
LAST-MODIFIED:20260328T012903Z
UID:10000410-1816189200-1816196400@www.esmn.org
SUMMARY:💡CE: ESMN Chapter Meeting
DESCRIPTION:Speaker: TBD \nSchedule: \n\n5:00-5:30: Social time\n5:30-6:00 Business meeting\n6:00-7:00 Speaker.\n\n\nBetter Impact Info: Log speaker time under Category 2/ Continuing Education.\nCheck out other ESMN CE Opportunities and VMN CE Webinars.
URL:https://www.esmn.org/event/%f0%9f%92%a1ce-esmn-chapter-meeting-2/2027-07-21/
LOCATION:Virginia Institute of Marine Science Eastern Shore Laboratory\, Seaside Hall\, 36 Atlantic Street\, Wachapreague\, VA\, United States
CATEGORIES:Chapter Member Continuing Education
ATTACH;FMTTYPE=image/png:https://www.esmn.org/wp-content/uploads/2025/05/IMG_0579-e1748519574370.png
END:VEVENT
BEGIN:VEVENT
DTSTART;TZID=America/Halifax:20270915T170000
DTEND;TZID=America/Halifax:20270915T190000
DTSTAMP:20260421T004127
CREATED:20260328T012854Z
LAST-MODIFIED:20260328T012903Z
UID:10000411-1821027600-1821034800@www.esmn.org
SUMMARY:💡CE: ESMN Chapter Meeting
DESCRIPTION:Speaker: TBD \nSchedule: \n\n5:00-5:30: Social time\n5:30-6:00 Business meeting\n6:00-7:00 Speaker.\n\n\nBetter Impact Info: Log speaker time under Category 2/ Continuing Education.\nCheck out other ESMN CE Opportunities and VMN CE Webinars.
URL:https://www.esmn.org/event/%f0%9f%92%a1ce-esmn-chapter-meeting-2/2027-09-15/
LOCATION:Virginia Institute of Marine Science Eastern Shore Laboratory\, Seaside Hall\, 36 Atlantic Street\, Wachapreague\, VA\, United States
CATEGORIES:Chapter Member Continuing Education
ATTACH;FMTTYPE=image/png:https://www.esmn.org/wp-content/uploads/2025/05/IMG_0579-e1748519574370.png
END:VEVENT
BEGIN:VEVENT
DTSTART;TZID=America/Halifax:20271117T170000
DTEND;TZID=America/Halifax:20271117T190000
DTSTAMP:20260421T004127
CREATED:20260328T012854Z
LAST-MODIFIED:20260328T012903Z
UID:10000412-1826470800-1826478000@www.esmn.org
SUMMARY:💡CE: ESMN Chapter Meeting
DESCRIPTION:Speaker: TBD \nSchedule: \n\n5:00-5:30: Social time\n5:30-6:00 Business meeting\n6:00-7:00 Speaker.\n\n\nBetter Impact Info: Log speaker time under Category 2/ Continuing Education.\nCheck out other ESMN CE Opportunities and VMN CE Webinars.
URL:https://www.esmn.org/event/%f0%9f%92%a1ce-esmn-chapter-meeting-2/2027-11-17/
LOCATION:Virginia Institute of Marine Science Eastern Shore Laboratory\, Seaside Hall\, 36 Atlantic Street\, Wachapreague\, VA\, United States
CATEGORIES:Chapter Member Continuing Education
ATTACH;FMTTYPE=image/png:https://www.esmn.org/wp-content/uploads/2025/05/IMG_0579-e1748519574370.png
END:VEVENT
BEGIN:VEVENT
DTSTART;TZID=America/Halifax:20280119T170000
DTEND;TZID=America/Halifax:20280119T190000
DTSTAMP:20260421T004127
CREATED:20260328T012854Z
LAST-MODIFIED:20260328T012903Z
UID:10000413-1831914000-1831921200@www.esmn.org
SUMMARY:💡CE: ESMN Chapter Meeting
DESCRIPTION:Speaker: TBD \nSchedule: \n\n5:00-5:30: Social time\n5:30-6:00 Business meeting\n6:00-7:00 Speaker.\n\n\nBetter Impact Info: Log speaker time under Category 2/ Continuing Education.\nCheck out other ESMN CE Opportunities and VMN CE Webinars.
URL:https://www.esmn.org/event/%f0%9f%92%a1ce-esmn-chapter-meeting-2/2028-01-19/
LOCATION:Virginia Institute of Marine Science Eastern Shore Laboratory\, Seaside Hall\, 36 Atlantic Street\, Wachapreague\, VA\, United States
CATEGORIES:Chapter Member Continuing Education
ATTACH;FMTTYPE=image/png:https://www.esmn.org/wp-content/uploads/2025/05/IMG_0579-e1748519574370.png
END:VEVENT
BEGIN:VEVENT
DTSTART;TZID=America/Halifax:20280315T170000
DTEND;TZID=America/Halifax:20280315T190000
DTSTAMP:20260421T004127
CREATED:20260328T012854Z
LAST-MODIFIED:20260328T012903Z
UID:10000414-1836752400-1836759600@www.esmn.org
SUMMARY:💡CE: ESMN Chapter Meeting
DESCRIPTION:Speaker: TBD \nSchedule: \n\n5:00-5:30: Social time\n5:30-6:00 Business meeting\n6:00-7:00 Speaker.\n\n\nBetter Impact Info: Log speaker time under Category 2/ Continuing Education.\nCheck out other ESMN CE Opportunities and VMN CE Webinars.
URL:https://www.esmn.org/event/%f0%9f%92%a1ce-esmn-chapter-meeting-2/2028-03-15/
LOCATION:Virginia Institute of Marine Science Eastern Shore Laboratory\, Seaside Hall\, 36 Atlantic Street\, Wachapreague\, VA\, United States
CATEGORIES:Chapter Member Continuing Education
ATTACH;FMTTYPE=image/png:https://www.esmn.org/wp-content/uploads/2025/05/IMG_0579-e1748519574370.png
END:VEVENT
BEGIN:VEVENT
DTSTART;TZID=America/Halifax:20280517T170000
DTEND;TZID=America/Halifax:20280517T190000
DTSTAMP:20260421T004127
CREATED:20260328T012854Z
LAST-MODIFIED:20260328T012903Z
UID:10000415-1842195600-1842202800@www.esmn.org
SUMMARY:💡CE: ESMN Chapter Meeting
DESCRIPTION:Speaker: TBD \nSchedule: \n\n5:00-5:30: Social time\n5:30-6:00 Business meeting\n6:00-7:00 Speaker.\n\n\nBetter Impact Info: Log speaker time under Category 2/ Continuing Education.\nCheck out other ESMN CE Opportunities and VMN CE Webinars.
URL:https://www.esmn.org/event/%f0%9f%92%a1ce-esmn-chapter-meeting-2/2028-05-17/
LOCATION:Virginia Institute of Marine Science Eastern Shore Laboratory\, Seaside Hall\, 36 Atlantic Street\, Wachapreague\, VA\, United States
CATEGORIES:Chapter Member Continuing Education
ATTACH;FMTTYPE=image/png:https://www.esmn.org/wp-content/uploads/2025/05/IMG_0579-e1748519574370.png
END:VEVENT
BEGIN:VEVENT
DTSTART;TZID=America/Halifax:20280719T170000
DTEND;TZID=America/Halifax:20280719T190000
DTSTAMP:20260421T004127
CREATED:20260328T012854Z
LAST-MODIFIED:20260328T012903Z
UID:10000416-1847638800-1847646000@www.esmn.org
SUMMARY:💡CE: ESMN Chapter Meeting
DESCRIPTION:Speaker: TBD \nSchedule: \n\n5:00-5:30: Social time\n5:30-6:00 Business meeting\n6:00-7:00 Speaker.\n\n\nBetter Impact Info: Log speaker time under Category 2/ Continuing Education.\nCheck out other ESMN CE Opportunities and VMN CE Webinars.
URL:https://www.esmn.org/event/%f0%9f%92%a1ce-esmn-chapter-meeting-2/2028-07-19/
LOCATION:Virginia Institute of Marine Science Eastern Shore Laboratory\, Seaside Hall\, 36 Atlantic Street\, Wachapreague\, VA\, United States
CATEGORIES:Chapter Member Continuing Education
ATTACH;FMTTYPE=image/png:https://www.esmn.org/wp-content/uploads/2025/05/IMG_0579-e1748519574370.png
END:VEVENT
BEGIN:VEVENT
DTSTART;TZID=America/Halifax:20280920T170000
DTEND;TZID=America/Halifax:20280920T190000
DTSTAMP:20260421T004127
CREATED:20260328T012854Z
LAST-MODIFIED:20260328T012903Z
UID:10000417-1853082000-1853089200@www.esmn.org
SUMMARY:💡CE: ESMN Chapter Meeting
DESCRIPTION:Speaker: TBD \nSchedule: \n\n5:00-5:30: Social time\n5:30-6:00 Business meeting\n6:00-7:00 Speaker.\n\n\nBetter Impact Info: Log speaker time under Category 2/ Continuing Education.\nCheck out other ESMN CE Opportunities and VMN CE Webinars.
URL:https://www.esmn.org/event/%f0%9f%92%a1ce-esmn-chapter-meeting-2/2028-09-20/
LOCATION:Virginia Institute of Marine Science Eastern Shore Laboratory\, Seaside Hall\, 36 Atlantic Street\, Wachapreague\, VA\, United States
CATEGORIES:Chapter Member Continuing Education
ATTACH;FMTTYPE=image/png:https://www.esmn.org/wp-content/uploads/2025/05/IMG_0579-e1748519574370.png
END:VEVENT
BEGIN:VEVENT
DTSTART;TZID=America/Halifax:20281115T170000
DTEND;TZID=America/Halifax:20281115T190000
DTSTAMP:20260421T004127
CREATED:20260328T012854Z
LAST-MODIFIED:20260328T012903Z
UID:10000418-1857920400-1857927600@www.esmn.org
SUMMARY:💡CE: ESMN Chapter Meeting
DESCRIPTION:Speaker: TBD \nSchedule: \n\n5:00-5:30: Social time\n5:30-6:00 Business meeting\n6:00-7:00 Speaker.\n\n\nBetter Impact Info: Log speaker time under Category 2/ Continuing Education.\nCheck out other ESMN CE Opportunities and VMN CE Webinars.
URL:https://www.esmn.org/event/%f0%9f%92%a1ce-esmn-chapter-meeting-2/2028-11-15/
LOCATION:Virginia Institute of Marine Science Eastern Shore Laboratory\, Seaside Hall\, 36 Atlantic Street\, Wachapreague\, VA\, United States
CATEGORIES:Chapter Member Continuing Education
ATTACH;FMTTYPE=image/png:https://www.esmn.org/wp-content/uploads/2025/05/IMG_0579-e1748519574370.png
END:VEVENT
BEGIN:VEVENT
DTSTART;TZID=America/Halifax:20290117T170000
DTEND;TZID=America/Halifax:20290117T190000
DTSTAMP:20260421T004127
CREATED:20260328T012854Z
LAST-MODIFIED:20260328T012903Z
UID:10000419-1863363600-1863370800@www.esmn.org
SUMMARY:💡CE: ESMN Chapter Meeting
DESCRIPTION:Speaker: TBD \nSchedule: \n\n5:00-5:30: Social time\n5:30-6:00 Business meeting\n6:00-7:00 Speaker.\n\n\nBetter Impact Info: Log speaker time under Category 2/ Continuing Education.\nCheck out other ESMN CE Opportunities and VMN CE Webinars.
URL:https://www.esmn.org/event/%f0%9f%92%a1ce-esmn-chapter-meeting-2/2029-01-17/
LOCATION:Virginia Institute of Marine Science Eastern Shore Laboratory\, Seaside Hall\, 36 Atlantic Street\, Wachapreague\, VA\, United States
CATEGORIES:Chapter Member Continuing Education
ATTACH;FMTTYPE=image/png:https://www.esmn.org/wp-content/uploads/2025/05/IMG_0579-e1748519574370.png
END:VEVENT
BEGIN:VEVENT
DTSTART;TZID=America/Halifax:20290321T170000
DTEND;TZID=America/Halifax:20290321T190000
DTSTAMP:20260421T004127
CREATED:20260328T012854Z
LAST-MODIFIED:20260328T012903Z
UID:10000420-1868806800-1868814000@www.esmn.org
SUMMARY:💡CE: ESMN Chapter Meeting
DESCRIPTION:Speaker: TBD \nSchedule: \n\n5:00-5:30: Social time\n5:30-6:00 Business meeting\n6:00-7:00 Speaker.\n\n\nBetter Impact Info: Log speaker time under Category 2/ Continuing Education.\nCheck out other ESMN CE Opportunities and VMN CE Webinars.
URL:https://www.esmn.org/event/%f0%9f%92%a1ce-esmn-chapter-meeting-2/2029-03-21/
LOCATION:Virginia Institute of Marine Science Eastern Shore Laboratory\, Seaside Hall\, 36 Atlantic Street\, Wachapreague\, VA\, United States
CATEGORIES:Chapter Member Continuing Education
ATTACH;FMTTYPE=image/png:https://www.esmn.org/wp-content/uploads/2025/05/IMG_0579-e1748519574370.png
END:VEVENT
BEGIN:VEVENT
DTSTART;TZID=America/Halifax:20290516T170000
DTEND;TZID=America/Halifax:20290516T190000
DTSTAMP:20260421T004127
CREATED:20260328T012854Z
LAST-MODIFIED:20260328T012903Z
UID:10000421-1873645200-1873652400@www.esmn.org
SUMMARY:💡CE: ESMN Chapter Meeting
DESCRIPTION:Speaker: TBD \nSchedule: \n\n5:00-5:30: Social time\n5:30-6:00 Business meeting\n6:00-7:00 Speaker.\n\n\nBetter Impact Info: Log speaker time under Category 2/ Continuing Education.\nCheck out other ESMN CE Opportunities and VMN CE Webinars.
URL:https://www.esmn.org/event/%f0%9f%92%a1ce-esmn-chapter-meeting-2/2029-05-16/
LOCATION:Virginia Institute of Marine Science Eastern Shore Laboratory\, Seaside Hall\, 36 Atlantic Street\, Wachapreague\, VA\, United States
CATEGORIES:Chapter Member Continuing Education
ATTACH;FMTTYPE=image/png:https://www.esmn.org/wp-content/uploads/2025/05/IMG_0579-e1748519574370.png
END:VEVENT
BEGIN:VEVENT
DTSTART;TZID=America/Halifax:20290718T170000
DTEND;TZID=America/Halifax:20290718T190000
DTSTAMP:20260421T004127
CREATED:20260328T012854Z
LAST-MODIFIED:20260328T012903Z
UID:10000422-1879088400-1879095600@www.esmn.org
SUMMARY:💡CE: ESMN Chapter Meeting
DESCRIPTION:Speaker: TBD \nSchedule: \n\n5:00-5:30: Social time\n5:30-6:00 Business meeting\n6:00-7:00 Speaker.\n\n\nBetter Impact Info: Log speaker time under Category 2/ Continuing Education.\nCheck out other ESMN CE Opportunities and VMN CE Webinars.
URL:https://www.esmn.org/event/%f0%9f%92%a1ce-esmn-chapter-meeting-2/2029-07-18/
LOCATION:Virginia Institute of Marine Science Eastern Shore Laboratory\, Seaside Hall\, 36 Atlantic Street\, Wachapreague\, VA\, United States
CATEGORIES:Chapter Member Continuing Education
ATTACH;FMTTYPE=image/png:https://www.esmn.org/wp-content/uploads/2025/05/IMG_0579-e1748519574370.png
END:VEVENT
BEGIN:VEVENT
DTSTART;TZID=America/Halifax:20290919T170000
DTEND;TZID=America/Halifax:20290919T190000
DTSTAMP:20260421T004127
CREATED:20260328T012854Z
LAST-MODIFIED:20260328T012903Z
UID:10000423-1884531600-1884538800@www.esmn.org
SUMMARY:💡CE: ESMN Chapter Meeting
DESCRIPTION:Speaker: TBD \nSchedule: \n\n5:00-5:30: Social time\n5:30-6:00 Business meeting\n6:00-7:00 Speaker.\n\n\nBetter Impact Info: Log speaker time under Category 2/ Continuing Education.\nCheck out other ESMN CE Opportunities and VMN CE Webinars.
URL:https://www.esmn.org/event/%f0%9f%92%a1ce-esmn-chapter-meeting-2/2029-09-19/
LOCATION:Virginia Institute of Marine Science Eastern Shore Laboratory\, Seaside Hall\, 36 Atlantic Street\, Wachapreague\, VA\, United States
CATEGORIES:Chapter Member Continuing Education
ATTACH;FMTTYPE=image/png:https://www.esmn.org/wp-content/uploads/2025/05/IMG_0579-e1748519574370.png
END:VEVENT
BEGIN:VEVENT
DTSTART;TZID=America/Halifax:20291121T170000
DTEND;TZID=America/Halifax:20291121T190000
DTSTAMP:20260421T004127
CREATED:20260328T012854Z
LAST-MODIFIED:20260328T012903Z
UID:10000424-1889974800-1889982000@www.esmn.org
SUMMARY:💡CE: ESMN Chapter Meeting
DESCRIPTION:Speaker: TBD \nSchedule: \n\n5:00-5:30: Social time\n5:30-6:00 Business meeting\n6:00-7:00 Speaker.\n\n\nBetter Impact Info: Log speaker time under Category 2/ Continuing Education.\nCheck out other ESMN CE Opportunities and VMN CE Webinars.
URL:https://www.esmn.org/event/%f0%9f%92%a1ce-esmn-chapter-meeting-2/2029-11-21/
LOCATION:Virginia Institute of Marine Science Eastern Shore Laboratory\, Seaside Hall\, 36 Atlantic Street\, Wachapreague\, VA\, United States
CATEGORIES:Chapter Member Continuing Education
ATTACH;FMTTYPE=image/png:https://www.esmn.org/wp-content/uploads/2025/05/IMG_0579-e1748519574370.png
END:VEVENT
BEGIN:VEVENT
DTSTART;TZID=America/Halifax:20300116T170000
DTEND;TZID=America/Halifax:20300116T190000
DTSTAMP:20260421T004127
CREATED:20260328T012854Z
LAST-MODIFIED:20260328T012903Z
UID:10000425-1894813200-1894820400@www.esmn.org
SUMMARY:💡CE: ESMN Chapter Meeting
DESCRIPTION:Speaker: TBD \nSchedule: \n\n5:00-5:30: Social time\n5:30-6:00 Business meeting\n6:00-7:00 Speaker.\n\n\nBetter Impact Info: Log speaker time under Category 2/ Continuing Education.\nCheck out other ESMN CE Opportunities and VMN CE Webinars.
URL:https://www.esmn.org/event/%f0%9f%92%a1ce-esmn-chapter-meeting-2/2030-01-16/
LOCATION:Virginia Institute of Marine Science Eastern Shore Laboratory\, Seaside Hall\, 36 Atlantic Street\, Wachapreague\, VA\, United States
CATEGORIES:Chapter Member Continuing Education
ATTACH;FMTTYPE=image/png:https://www.esmn.org/wp-content/uploads/2025/05/IMG_0579-e1748519574370.png
END:VEVENT
BEGIN:VEVENT
DTSTART;TZID=America/Halifax:20300320T170000
DTEND;TZID=America/Halifax:20300320T190000
DTSTAMP:20260421T004127
CREATED:20260328T012854Z
LAST-MODIFIED:20260328T012903Z
UID:10000426-1900256400-1900263600@www.esmn.org
SUMMARY:💡CE: ESMN Chapter Meeting
DESCRIPTION:Speaker: TBD \nSchedule: \n\n5:00-5:30: Social time\n5:30-6:00 Business meeting\n6:00-7:00 Speaker.\n\n\nBetter Impact Info: Log speaker time under Category 2/ Continuing Education.\nCheck out other ESMN CE Opportunities and VMN CE Webinars.
URL:https://www.esmn.org/event/%f0%9f%92%a1ce-esmn-chapter-meeting-2/2030-03-20/
LOCATION:Virginia Institute of Marine Science Eastern Shore Laboratory\, Seaside Hall\, 36 Atlantic Street\, Wachapreague\, VA\, United States
CATEGORIES:Chapter Member Continuing Education
ATTACH;FMTTYPE=image/png:https://www.esmn.org/wp-content/uploads/2025/05/IMG_0579-e1748519574370.png
END:VEVENT
BEGIN:VEVENT
DTSTART;TZID=America/Halifax:20300515T170000
DTEND;TZID=America/Halifax:20300515T190000
DTSTAMP:20260421T004127
CREATED:20260328T012854Z
LAST-MODIFIED:20260328T012903Z
UID:10000427-1905094800-1905102000@www.esmn.org
SUMMARY:💡CE: ESMN Chapter Meeting
DESCRIPTION:Speaker: TBD \nSchedule: \n\n5:00-5:30: Social time\n5:30-6:00 Business meeting\n6:00-7:00 Speaker.\n\n\nBetter Impact Info: Log speaker time under Category 2/ Continuing Education.\nCheck out other ESMN CE Opportunities and VMN CE Webinars.
URL:https://www.esmn.org/event/%f0%9f%92%a1ce-esmn-chapter-meeting-2/2030-05-15/
LOCATION:Virginia Institute of Marine Science Eastern Shore Laboratory\, Seaside Hall\, 36 Atlantic Street\, Wachapreague\, VA\, United States
CATEGORIES:Chapter Member Continuing Education
ATTACH;FMTTYPE=image/png:https://www.esmn.org/wp-content/uploads/2025/05/IMG_0579-e1748519574370.png
END:VEVENT
BEGIN:VEVENT
DTSTART;TZID=America/Halifax:20300717T170000
DTEND;TZID=America/Halifax:20300717T190000
DTSTAMP:20260421T004127
CREATED:20260328T012854Z
LAST-MODIFIED:20260328T012903Z
UID:10001418-1910538000-1910545200@www.esmn.org
SUMMARY:💡CE: ESMN Chapter Meeting
DESCRIPTION:Speaker: TBD \nSchedule: \n\n5:00-5:30: Social time\n5:30-6:00 Business meeting\n6:00-7:00 Speaker.\n\n\nBetter Impact Info: Log speaker time under Category 2/ Continuing Education.\nCheck out other ESMN CE Opportunities and VMN CE Webinars.
URL:https://www.esmn.org/event/%f0%9f%92%a1ce-esmn-chapter-meeting-2/2030-07-17/
LOCATION:Virginia Institute of Marine Science Eastern Shore Laboratory\, Seaside Hall\, 36 Atlantic Street\, Wachapreague\, VA\, United States
CATEGORIES:Chapter Member Continuing Education
ATTACH;FMTTYPE=image/png:https://www.esmn.org/wp-content/uploads/2025/05/IMG_0579-e1748519574370.png
END:VEVENT
BEGIN:VEVENT
DTSTART;TZID=America/Halifax:20300918T170000
DTEND;TZID=America/Halifax:20300918T190000
DTSTAMP:20260421T004127
CREATED:20260328T012854Z
LAST-MODIFIED:20260328T012903Z
UID:10001419-1915981200-1915988400@www.esmn.org
SUMMARY:💡CE: ESMN Chapter Meeting
DESCRIPTION:Speaker: TBD \nSchedule: \n\n5:00-5:30: Social time\n5:30-6:00 Business meeting\n6:00-7:00 Speaker.\n\n\nBetter Impact Info: Log speaker time under Category 2/ Continuing Education.\nCheck out other ESMN CE Opportunities and VMN CE Webinars.
URL:https://www.esmn.org/event/%f0%9f%92%a1ce-esmn-chapter-meeting-2/2030-09-18/
LOCATION:Virginia Institute of Marine Science Eastern Shore Laboratory\, Seaside Hall\, 36 Atlantic Street\, Wachapreague\, VA\, United States
CATEGORIES:Chapter Member Continuing Education
ATTACH;FMTTYPE=image/png:https://www.esmn.org/wp-content/uploads/2025/05/IMG_0579-e1748519574370.png
END:VEVENT
BEGIN:VEVENT
DTSTART;TZID=America/Halifax:20301120T170000
DTEND;TZID=America/Halifax:20301120T190000
DTSTAMP:20260421T004127
CREATED:20260328T012854Z
LAST-MODIFIED:20260328T012903Z
UID:10001420-1921424400-1921431600@www.esmn.org
SUMMARY:💡CE: ESMN Chapter Meeting
DESCRIPTION:Speaker: TBD \nSchedule: \n\n5:00-5:30: Social time\n5:30-6:00 Business meeting\n6:00-7:00 Speaker.\n\n\nBetter Impact Info: Log speaker time under Category 2/ Continuing Education.\nCheck out other ESMN CE Opportunities and VMN CE Webinars.
URL:https://www.esmn.org/event/%f0%9f%92%a1ce-esmn-chapter-meeting-2/2030-11-20/
LOCATION:Virginia Institute of Marine Science Eastern Shore Laboratory\, Seaside Hall\, 36 Atlantic Street\, Wachapreague\, VA\, United States
CATEGORIES:Chapter Member Continuing Education
ATTACH;FMTTYPE=image/png:https://www.esmn.org/wp-content/uploads/2025/05/IMG_0579-e1748519574370.png
END:VEVENT
BEGIN:VEVENT
DTSTART;TZID=America/Halifax:20310115T170000
DTEND;TZID=America/Halifax:20310115T190000
DTSTAMP:20260421T004127
CREATED:20260328T012854Z
LAST-MODIFIED:20260328T012903Z
UID:10001464-1926262800-1926270000@www.esmn.org
SUMMARY:💡CE: ESMN Chapter Meeting
DESCRIPTION:Speaker: TBD \nSchedule: \n\n5:00-5:30: Social time\n5:30-6:00 Business meeting\n6:00-7:00 Speaker.\n\n\nBetter Impact Info: Log speaker time under Category 2/ Continuing Education.\nCheck out other ESMN CE Opportunities and VMN CE Webinars.
URL:https://www.esmn.org/event/%f0%9f%92%a1ce-esmn-chapter-meeting-2/2031-01-15/
LOCATION:Virginia Institute of Marine Science Eastern Shore Laboratory\, Seaside Hall\, 36 Atlantic Street\, Wachapreague\, VA\, United States
CATEGORIES:Chapter Member Continuing Education
ATTACH;FMTTYPE=image/png:https://www.esmn.org/wp-content/uploads/2025/05/IMG_0579-e1748519574370.png
END:VEVENT
BEGIN:VEVENT
DTSTART;TZID=America/Halifax:20310319T170000
DTEND;TZID=America/Halifax:20310319T190000
DTSTAMP:20260421T004127
CREATED:20260328T012854Z
LAST-MODIFIED:20260328T012903Z
UID:10001465-1931706000-1931713200@www.esmn.org
SUMMARY:💡CE: ESMN Chapter Meeting
DESCRIPTION:Speaker: TBD \nSchedule: \n\n5:00-5:30: Social time\n5:30-6:00 Business meeting\n6:00-7:00 Speaker.\n\n\nBetter Impact Info: Log speaker time under Category 2/ Continuing Education.\nCheck out other ESMN CE Opportunities and VMN CE Webinars.
URL:https://www.esmn.org/event/%f0%9f%92%a1ce-esmn-chapter-meeting-2/2031-03-19/
LOCATION:Virginia Institute of Marine Science Eastern Shore Laboratory\, Seaside Hall\, 36 Atlantic Street\, Wachapreague\, VA\, United States
CATEGORIES:Chapter Member Continuing Education
ATTACH;FMTTYPE=image/png:https://www.esmn.org/wp-content/uploads/2025/05/IMG_0579-e1748519574370.png
END:VEVENT
END:VCALENDAR