BEGIN:VCALENDAR
VERSION:2.0
PRODID:-//Eastern Shore Master Naturalists - ECPv6.15.20//NONSGML v1.0//EN
CALSCALE:GREGORIAN
METHOD:PUBLISH
X-ORIGINAL-URL:https://www.esmn.org
X-WR-CALDESC:Events for Eastern Shore Master Naturalists
REFRESH-INTERVAL;VALUE=DURATION:PT1H
X-Robots-Tag:noindex
X-PUBLISHED-TTL:PT1H
BEGIN:VTIMEZONE
TZID:America/New_York
BEGIN:DAYLIGHT
TZOFFSETFROM:-0500
TZOFFSETTO:-0400
TZNAME:EDT
DTSTART:20240310T070000
END:DAYLIGHT
BEGIN:STANDARD
TZOFFSETFROM:-0400
TZOFFSETTO:-0500
TZNAME:EST
DTSTART:20241103T060000
END:STANDARD
BEGIN:DAYLIGHT
TZOFFSETFROM:-0500
TZOFFSETTO:-0400
TZNAME:EDT
DTSTART:20250309T070000
END:DAYLIGHT
BEGIN:STANDARD
TZOFFSETFROM:-0400
TZOFFSETTO:-0500
TZNAME:EST
DTSTART:20251102T060000
END:STANDARD
BEGIN:DAYLIGHT
TZOFFSETFROM:-0500
TZOFFSETTO:-0400
TZNAME:EDT
DTSTART:20260308T070000
END:DAYLIGHT
BEGIN:STANDARD
TZOFFSETFROM:-0400
TZOFFSETTO:-0500
TZNAME:EST
DTSTART:20261101T060000
END:STANDARD
END:VTIMEZONE
BEGIN:VEVENT
DTSTART;TZID=America/New_York:20251011T000000
DTEND;TZID=America/New_York:20251011T235959
DTSTAMP:20260420T130333
CREATED:20250815T155826Z
LAST-MODIFIED:20250816T221603Z
UID:10001024-1760140800-1760227199@www.esmn.org
SUMMARY:🧤 Volunteer: October Big Day with eBird
DESCRIPTION:October 11\, 2025\, October Big Day\, with eBird. Go out birdwatching and submit all your bird sightings to eBird. Participate from anywhere – even from home. Get a team together or take part as an individual.  \n\n\n\nhttps://ebird.org/news/october-big-day-2025 \n\n\n\nLog your hours in Better Impact under Category 14.
URL:https://www.esmn.org/event/%f0%9f%a7%a4-volunteer-october-big-day-with-ebird/
CATEGORIES:Citizen/Community Science
END:VEVENT
END:VCALENDAR