BEGIN:VCALENDAR
VERSION:2.0
PRODID:-//Eastern Shore Master Naturalists - ECPv6.15.20//NONSGML v1.0//EN
CALSCALE:GREGORIAN
METHOD:PUBLISH
X-WR-CALNAME:Eastern Shore Master Naturalists
X-ORIGINAL-URL:https://www.esmn.org
X-WR-CALDESC:Events for Eastern Shore Master Naturalists
REFRESH-INTERVAL;VALUE=DURATION:PT1H
X-Robots-Tag:noindex
X-PUBLISHED-TTL:PT1H
BEGIN:VTIMEZONE
TZID:UTC
BEGIN:STANDARD
TZOFFSETFROM:+0000
TZOFFSETTO:+0000
TZNAME:UTC
DTSTART:20230101T000000
END:STANDARD
END:VTIMEZONE
BEGIN:VTIMEZONE
TZID:America/Halifax
BEGIN:DAYLIGHT
TZOFFSETFROM:-0400
TZOFFSETTO:-0300
TZNAME:ADT
DTSTART:20230312T060000
END:DAYLIGHT
BEGIN:STANDARD
TZOFFSETFROM:-0300
TZOFFSETTO:-0400
TZNAME:AST
DTSTART:20231105T050000
END:STANDARD
BEGIN:DAYLIGHT
TZOFFSETFROM:-0400
TZOFFSETTO:-0300
TZNAME:ADT
DTSTART:20240310T060000
END:DAYLIGHT
BEGIN:STANDARD
TZOFFSETFROM:-0300
TZOFFSETTO:-0400
TZNAME:AST
DTSTART:20241103T050000
END:STANDARD
BEGIN:DAYLIGHT
TZOFFSETFROM:-0400
TZOFFSETTO:-0300
TZNAME:ADT
DTSTART:20250309T060000
END:DAYLIGHT
BEGIN:STANDARD
TZOFFSETFROM:-0300
TZOFFSETTO:-0400
TZNAME:AST
DTSTART:20251102T050000
END:STANDARD
BEGIN:DAYLIGHT
TZOFFSETFROM:-0400
TZOFFSETTO:-0300
TZNAME:ADT
DTSTART:20260308T060000
END:DAYLIGHT
BEGIN:STANDARD
TZOFFSETFROM:-0300
TZOFFSETTO:-0400
TZNAME:AST
DTSTART:20261101T050000
END:STANDARD
END:VTIMEZONE
BEGIN:VEVENT
DTSTART;TZID=UTC:20240610T000000
DTEND;TZID=UTC:20240611T235959
DTSTAMP:20260421T101226
CREATED:20240531T195252Z
LAST-MODIFIED:20240612T132909Z
UID:10000050-1717977600-1718150399@www.esmn.org
SUMMARY:⚠️ NOTICE: Mutton Hunk Fen Natural Area Preserve is CLOSED TODAY
DESCRIPTION:MHFNAP is closed today for invasive species management activities.
URL:https://www.esmn.org/event/notice-mutton-hunk-fen-natural-area-preserve-is-closed-today/
LOCATION:Mutton Hunk Fen Natural Area Preserve\, 28583 Baker Road\, Parksley\, VA\, United States
CATEGORIES:Miscellaneous
ATTACH;FMTTYPE=image/jpeg:https://www.esmn.org/wp-content/uploads/2024/05/IMG_1694-scaled-e1716837002255.jpeg
END:VEVENT
BEGIN:VEVENT
DTSTART;TZID=UTC:20240620T165100
DTEND;TZID=UTC:20240620T165200
DTSTAMP:20260421T101226
CREATED:20240605T175414Z
LAST-MODIFIED:20240612T133610Z
UID:10000051-1718902260-1718902320@www.esmn.org
SUMMARY:🌞 Summer Solstice
DESCRIPTION:
URL:https://www.esmn.org/event/summer-solstice/
CATEGORIES:Miscellaneous
END:VEVENT
BEGIN:VEVENT
DTSTART;TZID=America/Halifax:20240819T142600
DTEND;TZID=America/Halifax:20240819T142600
DTSTAMP:20260421T101226
CREATED:20240816T221617Z
LAST-MODIFIED:20240819T134226Z
UID:10000074-1724077560-1724077560@www.esmn.org
SUMMARY:🌕 Last Super Blue Moon Until 2037
DESCRIPTION:Learn about today’s Super Blue Moon! \nWant learn more? Check out NASA’s Super Blue Moon FAQ and Daily Moon Guide! \n(Image: NASA/JPL\, Source: @rtphokie) \n  \n  \n 
URL:https://www.esmn.org/event/%f0%9f%8c%95-last-super-blue-moon-until-2037/
CATEGORIES:Citizen/Community Science,Miscellaneous
ATTACH;FMTTYPE=image/jpeg:https://www.esmn.org/wp-content/uploads/2024/08/IMG_2039.jpeg
END:VEVENT
BEGIN:VEVENT
DTSTART;TZID=America/Halifax:20240906T000000
DTEND;TZID=America/Halifax:20241025T235959
DTSTAMP:20260421T101226
CREATED:20240907T001514Z
LAST-MODIFIED:20240907T005104Z
UID:10000079-1725580800-1729900799@www.esmn.org
SUMMARY:📷 Picture the Shore Photography Contest
DESCRIPTION:Picture the Shore is a photography contest and art exhibit designed to highlight the work of student\, amateur\, and professional photographers and to connect the public to the beauty and natural environment of the Eastern Shore through visual art. \nStudent\, amateur\, and professional photographers of all ages are invited to submit digital photos that feature the beauty and natural environment of the Eastern Shore of Virginia. Student and amateur photos must be taken with a cell phone camera. Professional photographers may take photos with the camera of their choosing. Each photographer can submit one (1) photo. Entries must feature the natural environment of the Eastern Shore and should focus on landscapes\, plants\, recreation\, waterways\, and wildlife. Please read complete Entry Guidelines below before submitting. \nThis contest does not qualify for volunteer hours.
URL:https://www.esmn.org/event/picture-the-shore-photography-contest/
CATEGORIES:Miscellaneous
ATTACH;FMTTYPE=image/jpeg:https://www.esmn.org/wp-content/uploads/2024/09/crepe-myrtle.jpg
END:VEVENT
BEGIN:VEVENT
DTSTART;TZID=America/Halifax:20240923T000000
DTEND;TZID=America/Halifax:20240926T235959
DTSTAMP:20260421T101226
CREATED:20240921T140411Z
LAST-MODIFIED:20240924T141634Z
UID:10000090-1727049600-1727395199@www.esmn.org
SUMMARY:🚫 Mutton Hunk Fen NAP CLOSED
DESCRIPTION:Mutton Hunk Fen NAP will be CLOSED Monday through Thursday September 23rd to the 26th. Our invasive species treatment contractor will be on site working. The work window has been extended two days due to uncooperative weather.
URL:https://www.esmn.org/event/mutton-hunk-fen-nap-closed-2/
LOCATION:Mutton Hunk Fen Natural Area Preserve\, 28583 Baker Road\, Parksley\, VA\, United States
CATEGORIES:Miscellaneous
ATTACH;FMTTYPE=image/jpeg:https://www.esmn.org/wp-content/uploads/2024/09/IMG_1447-scaled-e1726927521567.jpeg
END:VEVENT
BEGIN:VEVENT
DTSTART;TZID=America/Halifax:20240924T170000
DTEND;TZID=America/Halifax:20240924T190000
DTSTAMP:20260421T101226
CREATED:20240907T004312Z
LAST-MODIFIED:20240907T005814Z
UID:10000081-1727197200-1727204400@www.esmn.org
SUMMARY:📷 CE: Photography Workshop: Cell Phone Photography Introduction
DESCRIPTION:Join VES Land Trust and Ted Shockley for a workshop on taking pictures with your cell phone! The workshop is in person on Tuesday\, September 24th from 5-7 p.m. This workshop is meant for anyone who would like to learn the basics of cell phone photography and how to take your best photos. \nThe workshop will also offer the opportunity to practice your newly learned cell phone photography skills outside during the golden hour on a VES Land Trust held conservation easement. \nDirections will be provided to workshop participants following registration. This workshop is free and open to 20 participants. \nThis workshop is an approved ESMN continuing education activity.
URL:https://www.esmn.org/event/photography-workshop-cell-phone-photography-introduction/
CATEGORIES:Miscellaneous
ATTACH;FMTTYPE=image/png:https://www.esmn.org/wp-content/uploads/2024/09/picture-the-shore-flyer-2024.png
END:VEVENT
BEGIN:VEVENT
DTSTART;TZID=America/Halifax:20240925T080000
DTEND;TZID=America/Halifax:20240925T170000
DTSTAMP:20260421T101226
CREATED:20240925T194001Z
LAST-MODIFIED:20240925T194001Z
UID:10000092-1727251200-1727283600@www.esmn.org
SUMMARY:National Public Lands Day! Free Admission at Kiptopeke State Park
DESCRIPTION:https://www.dcr.virginia.gov/public-lands-day
URL:https://www.esmn.org/event/national-public-lands-day-free-admission-at-kiptopeke-state-park/
CATEGORIES:Miscellaneous
END:VEVENT
BEGIN:VEVENT
DTSTART;TZID=America/Halifax:20241021T000000
DTEND;TZID=America/Halifax:20241024T235959
DTSTAMP:20260421T101226
CREATED:20241015T185008Z
LAST-MODIFIED:20241025T001648Z
UID:10000094-1729468800-1729814399@www.esmn.org
SUMMARY:🚫 Mutton Hunk Fen NAP CLOSED
DESCRIPTION:Mutton Hunk Fen NAP will be closed from Monday\, October 21 through Friday October 25th for invasive removals.
URL:https://www.esmn.org/event/mutton-hunk-fen-nap-closed/
CATEGORIES:Miscellaneous
ATTACH;FMTTYPE=image/jpeg:https://www.esmn.org/wp-content/uploads/2024/09/IMG_1447-scaled-e1726927521567.jpeg
END:VEVENT
BEGIN:VEVENT
DTSTART;TZID=America/Halifax:20241031T130000
DTEND;TZID=America/Halifax:20241031T130000
DTSTAMP:20260421T101226
CREATED:20241029T124013Z
LAST-MODIFIED:20241029T140558Z
UID:10000100-1730379600-1730379600@www.esmn.org
SUMMARY:CE: Wildlife Center of Virginia Bald Eagle Release at Mutton Hunk Fen Natural Area Preserve
DESCRIPTION:After two months of treatment and care\, Bald Eagle #24-3548 is ready to return to the wild – and you can join us for the release! Please see RSVP info below. \nThis adult Bald Eagle was found near the Tyson Plant in Accomack County on August 27\, 2024. The eagle was spotted on the ground and was not able to fly; observers reported that the bird’s feathers were dirty and crusted. Wildlife rehabilitator Gay Frazee captured the bird and transferred him to the Center for treatment. \nThe Center’s veterinary team noted that the eagle’s feathers were in very poor condition\, but did not find any injuries during the physical exam or on radiographs. During the next two weeks\, vet staff provided fluids and supportive care for the eagle while his feather condition improved. The eagle exhibited signs of severe stress during care\, so the team also gave the bird daily medication for anxiety. \nBy mid-September\, the eagle’s feather condition had improved\, and he was moved to an outdoor flight pen for flight conditioning. The eagle flew strongly and had good form during flight\, but lacked the stamina needed to survive in the wild. The rehab team performed daily exercise sessions with the bird to help him rebuild his stamina. By October 25\, the bird’s stamina had improved\, and the eagle was cleared for release. \nThis eagle will be released at the Mutton Hunk Fen Natural Area Preserve on Thursday\, October 31\, at 1:00 p.m. Wildlife Center President Meg will give a presentation on the Center’s life-saving work with Bald Eagles and then open the crate door to release the eagle. \nJoin us to watch the bird return home! The release is free and open to the public. Attendees are asked to RSVP with the name and number of people in their party through this webform. \nMutton Hunk Fen Natural Area Preserve Address: 28583 Baker Rd\, Parksley\, VA 23421 \nThe release will take place rain or shine\, unless thunderstorms with lightning threaten visitor safety. \n\nLog hours under Better Impact Category 2: Continuing Education.
URL:https://www.esmn.org/event/bald-eagle-release-at-mutton-hunk-fen-natural-area-preserve/
LOCATION:Mutton Hunk Fen Natural Area Preserve\, 28583 Baker Road\, Parksley\, VA\, United States
CATEGORIES:Miscellaneous
ATTACH;FMTTYPE=image/jpeg:https://www.esmn.org/wp-content/uploads/2024/10/P1020157-scaled-e1730210453984.jpeg
END:VEVENT
BEGIN:VEVENT
DTSTART;TZID=America/Halifax:20241108T180000
DTEND;TZID=America/Halifax:20241108T200000
DTSTAMP:20260421T101226
CREATED:20240907T002747Z
LAST-MODIFIED:20240907T004945Z
UID:10000080-1731088800-1731096000@www.esmn.org
SUMMARY:📷 Picture the Shore Photography Contest Exhibit and Reception
DESCRIPTION:Picture the Shore is a photography contest and art exhibit designed to highlight the work of student\, amateur\, and professional photographers and to connect the public to the natural beauty and environment of the Eastern Shore through visual art. \nThe exhibit opens with a reception on Friday\, November 8th and runs through November 22nd at the Barrier Islands Center. At the reception\, photographers and VES Land Trust staff will be present to talk more about the photos\, the artistic process\, conservation\, and the land. Attendees will also have a chance to vote for their favorite photo in the amateur and student categories with the People’s Choice Award. The award for professional photographers will be chosen by a panel of judges. \nThe exhibit is free and open to the public. All photographs will be available for sale with 35% of proceeds benefiting VES Land Trust and their conservation mission.
URL:https://www.esmn.org/event/picture-the-shore-photography-contest-exhibit-and-reception/
LOCATION:Barrier Islands Center\, 7295 Young Street\, Machipongo\, VA\, 23405\, United States
CATEGORIES:Miscellaneous
ATTACH;FMTTYPE=image/jpeg:https://www.esmn.org/wp-content/uploads/2024/09/crepe-myrtle.jpg
END:VEVENT
BEGIN:VEVENT
DTSTART;TZID=America/Halifax:20250101T080000
DTEND;TZID=America/Halifax:20250101T160000
DTSTAMP:20260421T101226
CREATED:20241227T145657Z
LAST-MODIFIED:20241227T145657Z
UID:10000116-1735718400-1735747200@www.esmn.org
SUMMARY:First Day Hike Scavenger Hunt at Kiptopeke
DESCRIPTION:https://www.dcr.virginia.gov/state-parks/event?id=2024-11-21-15-31-13-275693-nqk \nWhere\nKiptopeke State Park\, 3540 Kiptopeke Dr.\, Cape Charles\, VA 23310.\nVarious Locations \nWhen\nJan. 1\, 2025. 8:00 a.m. – 4:00 p.m. \n\nRing in the New Year with a self-guided hike at Kiptopeke. This scavenger hunt will take you all over the park and show you spots you never knew existed. \nCopies of the Kiptopeke Scavenger Hunt will be available at the brochure holders at the contact station\, park office and trail head.  You can also download and print it yourself. ksp-scavenger-ksp-scavenger-hunt \n\n\nAbout First Day Hikes\nEvery year on Jan. 1\, Virginia State Parks celebrates First Day Hikes. This nationwide initiative invites people to ring in the new year by connecting with nature and making lasting memories at a state park. Ranger-led and self-guided First Day Hikes are offered across the state\, giving visitors of all ages and skill levels the chance to explore outdoors. January 1 is a Free Parking Day at all Virginia State Parks. (The admission fee at Natural Bridge still applies). \nksp-scavenger-hunt
URL:https://www.esmn.org/event/first-day-hike-scavenger-hunt-at-kiptopeke/
LOCATION:Kiptopeke State Park\, 3540 Kiptopeke Dr.\, Cape Charles\, VA\, 23310\, United States
CATEGORIES:Miscellaneous,Social/Other Events
ATTACH;FMTTYPE=image/png:https://www.esmn.org/wp-content/uploads/2024/12/IMG_2513.png
END:VEVENT
BEGIN:VEVENT
DTSTART;TZID=America/Halifax:20250314T010000
DTEND;TZID=America/Halifax:20250314T050000
DTSTAMP:20260421T101226
CREATED:20250303T031833Z
LAST-MODIFIED:20250303T032103Z
UID:10000150-1741914000-1741928400@www.esmn.org
SUMMARY:Total Lunar Eclipse!
DESCRIPTION:A total lunar eclipse is coming soon. Here’s when to spot it.
URL:https://www.esmn.org/event/total-lunar-eclipse/
CATEGORIES:Citizen/Community Science,Miscellaneous
ATTACH;FMTTYPE=image/jpeg:https://www.esmn.org/wp-content/uploads/2025/03/IMG_2810.jpeg
END:VEVENT
END:VCALENDAR