BEGIN:VCALENDAR
VERSION:2.0
PRODID:-//Eastern Shore Master Naturalists - ECPv6.15.20//NONSGML v1.0//EN
CALSCALE:GREGORIAN
METHOD:PUBLISH
X-ORIGINAL-URL:https://www.esmn.org
X-WR-CALDESC:Events for Eastern Shore Master Naturalists
REFRESH-INTERVAL;VALUE=DURATION:PT1H
X-Robots-Tag:noindex
X-PUBLISHED-TTL:PT1H
BEGIN:VTIMEZONE
TZID:America/New_York
BEGIN:DAYLIGHT
TZOFFSETFROM:-0500
TZOFFSETTO:-0400
TZNAME:EDT
DTSTART:20250309T070000
END:DAYLIGHT
BEGIN:STANDARD
TZOFFSETFROM:-0400
TZOFFSETTO:-0500
TZNAME:EST
DTSTART:20251102T060000
END:STANDARD
BEGIN:DAYLIGHT
TZOFFSETFROM:-0500
TZOFFSETTO:-0400
TZNAME:EDT
DTSTART:20260308T070000
END:DAYLIGHT
BEGIN:STANDARD
TZOFFSETFROM:-0400
TZOFFSETTO:-0500
TZNAME:EST
DTSTART:20261101T060000
END:STANDARD
BEGIN:DAYLIGHT
TZOFFSETFROM:-0500
TZOFFSETTO:-0400
TZNAME:EDT
DTSTART:20270314T070000
END:DAYLIGHT
BEGIN:STANDARD
TZOFFSETFROM:-0400
TZOFFSETTO:-0500
TZNAME:EST
DTSTART:20271107T060000
END:STANDARD
END:VTIMEZONE
BEGIN:VEVENT
DTSTART;TZID=America/New_York:20260425T080000
DTEND;TZID=America/New_York:20260425T133000
DTSTAMP:20260419T142521
CREATED:20260213T224916Z
LAST-MODIFIED:20260213T225141Z
UID:10001457-1777104000-1777123800@www.esmn.org
SUMMARY:🧤 Plant Eastern Shore Natives Educational Table at Annual ANEC Member Appreciation and Arbor Day Celebration
DESCRIPTION:This popular spring event is open to the public from 9am to 1pm\, but volunteers are needed in advance to set up and at the end to break down the display.  \n\n\n\nThe Plant ES Natives table is usually located inside and alongside the Birding ES and the ESMN tables. Volunteer windows are usually from 8am – 10:30am and 10:30am-1:30pm. The morning shift is generally busier and requires more volunteers to interact with the hundreds of attendees.  \n\n\n\nPlease contact shannon.alexander@dcr.virginia.gov if you’re interested in volunteering. \n\n\n\nPlease log your hours under Better Impact Category 15 – E & O/Plant Eastern Shore Natives.
URL:https://www.esmn.org/event/%f0%9f%a7%a4-plant-eastern-shore-natives-educational-table-at-annual-anec-member-appreciation-and-arbor-day-celebration/
LOCATION:ANEC\, 21275 Cooperative Way\, Tasley\, VA\, 23441\, United States
CATEGORIES:Education & Outreach
ATTACH;FMTTYPE=image/png:https://www.esmn.org/wp-content/uploads/2026/02/IMG_4259-scaled-e1771022706515.png
END:VEVENT
BEGIN:VEVENT
DTSTART;TZID=America/New_York:20260502T100000
DTEND;TZID=America/New_York:20260502T150000
DTSTAMP:20260419T142521
CREATED:20260330T123830Z
LAST-MODIFIED:20260330T134801Z
UID:10001468-1777716000-1777734000@www.esmn.org
SUMMARY:🧤 TNC Open Farm Day
DESCRIPTION:The 9th Open Farm Day at The Nature Conservancy’s Brownsville Preserve in Nassawadox will be held on Saturday\, May 2nd!  \n\n\n\nThis free\, public event typically brings a couple hundred folks from the local community out to explore and enjoy themselves in this special\, conserved place. TNC VCR staff will be on hand\, and volunteer activities will range from helping with family activities\, wagon chaperoning\, lunch assistance\, parking\, and more.  \n\n\n\nEvent takes place 10:00 am-3:00 pm\, but some shifts may be asked to arrive early.We are also looking for Spanish/English and Haitian Creole/English bilingual volunteers to help with any of the below activities in order to help us provide better access for our full Shore community.  \n\n\n\nPlease reach out to VCR Community Engagement Specialist\, Margaret Van Clief at mvanclief@tnc.org or 757-414-9227 with questions or to sign up for one of the shifts listed below – \n\n\n\nFamily Activities (Nature Arts & Crafts\, Educational Nature Games – all will be explained!) (log hours in BI under Category 13:/assist with ed programs): \n\n\n\n\n9:30 am-12:30 pm (4 volunteers\, 2 bilingual volunteers) \n\n\n\n12:15 pm – 3:00 pm (4 volunteers\, 2 bilingual volunteers) \n\n\n\n\nParking Volunteers (no ESMN volunteer hours): \n\n\n\n\n9:30-11:45 am (1 volunteer\, 1 bilingual volunteer)\n\n\n\n11:30 am – 1:30 pm (1 volunteer\, 1 bilingual volunteer)\n\n\n\n\nWagon Attendants (maintaining safety & comfort on wagons between parking and Brownsville House grounds) (no ESMN volunteer hours): \n\n\n\n\n9:45 am-12:30 pm (1 bilingual volunteer)\n\n\n\n12:15-3:00 pm (1 bilingual volunteer)\n\n\n\n\nLunch Assistance (working out details – serving\, bussing\, trash\, setting up & breaking down picnic area) (no ESMN volunteer hours): \n\n\n\n\n11:30 am-1:30 pm (4 volunteers\, 1 bilingual volunteer)\n\n\n\n10:30 am-12:30 pm (2 volunteers\, 1 bilingual volunteer)
URL:https://www.esmn.org/event/tnc-open-farm-day/
CATEGORIES:Education & Outreach
ATTACH;FMTTYPE=image/jpeg:https://www.esmn.org/wp-content/uploads/2026/03/IMG_4532.jpeg
END:VEVENT
BEGIN:VEVENT
DTSTART;TZID=America/New_York:20261003T083000
DTEND;TZID=America/New_York:20261003T143000
DTSTAMP:20260419T142521
CREATED:20260213T225812Z
LAST-MODIFIED:20260213T230135Z
UID:10001458-1791016200-1791037800@www.esmn.org
SUMMARY:🧤 Plant Eastern Shore Natives Educational Table at Annual Eastern Shore Agricultural Fair
DESCRIPTION:This popular fall event is open to the public from 10am to 2pm\, but volunteers are needed in advance to set up and at the end to break down the display and outdoor event tent. The Plant ES Natives table is usually located near the ESMN table and other conservation partners. Volunteer windows are usually from 8:30am to 11:30am and from 11:30am to 2:30. Please contact shannon.alexander@edcr.virginia.gov if you’re interested in volunteering.  \n\n\n\nPlease contact shannon.alexander@dcr.virginia.gov if you’re interested in volunteering. \n\n\n\nPlease log your hours under Better Impact Category 15 – E & O/Plant Eastern Shore Natives.
URL:https://www.esmn.org/event/%f0%9f%a7%a4-plant-eastern-shore-natives-educational-table-at-annual-eastern-shore-agricultural-fair/
CATEGORIES:Education & Outreach
ATTACH;FMTTYPE=image/png:https://www.esmn.org/wp-content/uploads/2026/02/IMG_4259-scaled-e1771022706515.png
END:VEVENT
END:VCALENDAR