BEGIN:VCALENDAR
VERSION:2.0
PRODID:-//Eastern Shore Master Naturalists - ECPv6.15.20//NONSGML v1.0//EN
CALSCALE:GREGORIAN
METHOD:PUBLISH
X-WR-CALNAME:Eastern Shore Master Naturalists
X-ORIGINAL-URL:https://www.esmn.org
X-WR-CALDESC:Events for Eastern Shore Master Naturalists
REFRESH-INTERVAL;VALUE=DURATION:PT1H
X-Robots-Tag:noindex
X-PUBLISHED-TTL:PT1H
BEGIN:VTIMEZONE
TZID:America/New_York
BEGIN:DAYLIGHT
TZOFFSETFROM:-0500
TZOFFSETTO:-0400
TZNAME:EDT
DTSTART:20250309T070000
END:DAYLIGHT
BEGIN:STANDARD
TZOFFSETFROM:-0400
TZOFFSETTO:-0500
TZNAME:EST
DTSTART:20251102T060000
END:STANDARD
BEGIN:DAYLIGHT
TZOFFSETFROM:-0500
TZOFFSETTO:-0400
TZNAME:EDT
DTSTART:20260308T070000
END:DAYLIGHT
BEGIN:STANDARD
TZOFFSETFROM:-0400
TZOFFSETTO:-0500
TZNAME:EST
DTSTART:20261101T060000
END:STANDARD
BEGIN:DAYLIGHT
TZOFFSETFROM:-0500
TZOFFSETTO:-0400
TZNAME:EDT
DTSTART:20270314T070000
END:DAYLIGHT
BEGIN:STANDARD
TZOFFSETFROM:-0400
TZOFFSETTO:-0500
TZNAME:EST
DTSTART:20271107T060000
END:STANDARD
END:VTIMEZONE
BEGIN:VEVENT
DTSTART;TZID=America/New_York:20260522T090000
DTEND;TZID=America/New_York:20260522T100000
DTSTAMP:20260419T210821
CREATED:20260106T220404Z
LAST-MODIFIED:20260106T223920Z
UID:10001428-1779440400-1779444000@www.esmn.org
SUMMARY:💡 Cooperative Extension Coffee Hours
DESCRIPTION:Per Northampton County Cooperative Extension: \n\n\n\nNorthampton Virginia Cooperative Extension is excited to unveil our 2026 Coffee Hour Lecture Series — a year of engaging\, seasonal topics designed for gardeners\, nature enthusiasts\, and lifelong learners across the Eastern Shore. \n\n\n\n2026 Topics Include: \n\n\n\n– Jan 23 – Ticks & Their Diseases on the Eastern Shore \n\n\n\n– Feb 20 – History of Agriculture on the Eastern Shore \n\n\n\n– Mar 20 – Planning Your Spring Garden & Plant Exchange \n\n\n\n– Apr 10 – TBD \n\n\n\n– May 22 – Eastern Shore Birds Through the Seasons \n\n\n\n– Jun 26 – Mothing on Virginia’s Eastern Shore \n\n\n\n– Jul 24 – Native Edible & Medicinal Plants \n\n\n\n– Aug 21 – Planning Your Fall Garden & Plant Exchange \n\n\n\n– Sep 18 – Soil Health & Cover Crops \n\n\n\n– Oct 23 – Controlling Invasive Plant Species \n\n\n\nNo registration required — just bring your curiosity and enjoy coffee and conversation with neighbors and experts. \n\n\n\n For accommodations or questions\, contact Agriculture and Natural Resources Extension Agent Helene Doughty at 757-678-7946 or hdoughty@vt.edu
URL:https://www.esmn.org/event/cooperative-extension-coffee-hours-5/
LOCATION:Eastville Community Center\, 17202 Courthouse Road\, Eastville\, Virginia\, 23347
CATEGORIES:Continuing Education
END:VEVENT
BEGIN:VEVENT
DTSTART;TZID=America/New_York:20260626T090000
DTEND;TZID=America/New_York:20260626T100000
DTSTAMP:20260419T210821
CREATED:20260106T220532Z
LAST-MODIFIED:20260106T223906Z
UID:10001430-1782464400-1782468000@www.esmn.org
SUMMARY:💡 Cooperative Extension Coffee Hours
DESCRIPTION:Per Northampton County Cooperative Extension: \n\n\n\nNorthampton Virginia Cooperative Extension is excited to unveil our 2026 Coffee Hour Lecture Series — a year of engaging\, seasonal topics designed for gardeners\, nature enthusiasts\, and lifelong learners across the Eastern Shore. \n\n\n\n2026 Topics Include: \n\n\n\n– Jan 23 – Ticks & Their Diseases on the Eastern Shore \n\n\n\n– Feb 20 – History of Agriculture on the Eastern Shore \n\n\n\n– Mar 20 – Planning Your Spring Garden & Plant Exchange \n\n\n\n– Apr 10 – TBD \n\n\n\n– May 22 – Eastern Shore Birds Through the Seasons \n\n\n\n– Jun 26 – Mothing on Virginia’s Eastern Shore \n\n\n\n– Jul 24 – Native Edible & Medicinal Plants \n\n\n\n– Aug 21 – Planning Your Fall Garden & Plant Exchange \n\n\n\n– Sep 18 – Soil Health & Cover Crops \n\n\n\n– Oct 23 – Controlling Invasive Plant Species \n\n\n\nNo registration required — just bring your curiosity and enjoy coffee and conversation with neighbors and experts. \n\n\n\n For accommodations or questions\, contact Agriculture and Natural Resources Extension Agent Helene Doughty at 757-678-7946 or hdoughty@vt.edu
URL:https://www.esmn.org/event/cooperative-extension-coffee-hours-7/
LOCATION:Eastville Community Center\, 17202 Courthouse Road\, Eastville\, Virginia\, 23347
CATEGORIES:Continuing Education
END:VEVENT
BEGIN:VEVENT
DTSTART;TZID=America/New_York:20260724T090000
DTEND;TZID=America/New_York:20260724T100000
DTSTAMP:20260419T210821
CREATED:20260106T220634Z
LAST-MODIFIED:20260106T223850Z
UID:10001431-1784883600-1784887200@www.esmn.org
SUMMARY:💡 Cooperative Extension Coffee Hours
DESCRIPTION:Per Northampton County Cooperative Extension: \n\n\n\nNorthampton Virginia Cooperative Extension is excited to unveil our 2026 Coffee Hour Lecture Series — a year of engaging\, seasonal topics designed for gardeners\, nature enthusiasts\, and lifelong learners across the Eastern Shore. \n\n\n\n2026 Topics Include: \n\n\n\n– Jan 23 – Ticks & Their Diseases on the Eastern Shore \n\n\n\n– Feb 20 – History of Agriculture on the Eastern Shore \n\n\n\n– Mar 20 – Planning Your Spring Garden & Plant Exchange \n\n\n\n– Apr 10 – TBD \n\n\n\n– May 22 – Eastern Shore Birds Through the Seasons \n\n\n\n– Jun 26 – Mothing on Virginia’s Eastern Shore \n\n\n\n– Jul 24 – Native Edible & Medicinal Plants \n\n\n\n– Aug 21 – Planning Your Fall Garden & Plant Exchange \n\n\n\n– Sep 18 – Soil Health & Cover Crops \n\n\n\n– Oct 23 – Controlling Invasive Plant Species \n\n\n\nNo registration required — just bring your curiosity and enjoy coffee and conversation with neighbors and experts. \n\n\n\n For accommodations or questions\, contact Agriculture and Natural Resources Extension Agent Helene Doughty at 757-678-7946 or hdoughty@vt.edu
URL:https://www.esmn.org/event/cooperative-extension-coffee-hours-8/
LOCATION:Eastville Community Center\, 17202 Courthouse Road\, Eastville\, Virginia\, 23347
CATEGORIES:Continuing Education
END:VEVENT
BEGIN:VEVENT
DTSTART;TZID=America/New_York:20260821T090000
DTEND;TZID=America/New_York:20260821T100000
DTSTAMP:20260419T210821
CREATED:20260106T220711Z
LAST-MODIFIED:20260106T223826Z
UID:10001432-1787302800-1787306400@www.esmn.org
SUMMARY:💡 Cooperative Extension Coffee Hours
DESCRIPTION:Per Northampton County Cooperative Extension: \n\n\n\nNorthampton Virginia Cooperative Extension is excited to unveil our 2026 Coffee Hour Lecture Series — a year of engaging\, seasonal topics designed for gardeners\, nature enthusiasts\, and lifelong learners across the Eastern Shore. \n\n\n\n2026 Topics Include: \n\n\n\n– Jan 23 – Ticks & Their Diseases on the Eastern Shore \n\n\n\n– Feb 20 – History of Agriculture on the Eastern Shore \n\n\n\n– Mar 20 – Planning Your Spring Garden & Plant Exchange \n\n\n\n– Apr 10 – TBD \n\n\n\n– May 22 – Eastern Shore Birds Through the Seasons \n\n\n\n– Jun 26 – Mothing on Virginia’s Eastern Shore \n\n\n\n– Jul 24 – Native Edible & Medicinal Plants \n\n\n\n– Aug 21 – Planning Your Fall Garden & Plant Exchange \n\n\n\n– Sep 18 – Soil Health & Cover Crops \n\n\n\n– Oct 23 – Controlling Invasive Plant Species \n\n\n\nNo registration required — just bring your curiosity and enjoy coffee and conversation with neighbors and experts. \n\n\n\n For accommodations or questions\, contact Agriculture and Natural Resources Extension Agent Helene Doughty at 757-678-7946 or hdoughty@vt.edu
URL:https://www.esmn.org/event/cooperative-extension-coffee-hours-9/
LOCATION:Eastville Community Center\, 17202 Courthouse Road\, Eastville\, Virginia\, 23347
CATEGORIES:Continuing Education
END:VEVENT
BEGIN:VEVENT
DTSTART;TZID=America/New_York:20260918T090000
DTEND;TZID=America/New_York:20260918T100000
DTSTAMP:20260419T210821
CREATED:20260106T220753Z
LAST-MODIFIED:20260106T223810Z
UID:10001433-1789722000-1789725600@www.esmn.org
SUMMARY:💡 Cooperative Extension Coffee Hours
DESCRIPTION:Per Northampton County Cooperative Extension: \n\n\n\nNorthampton Virginia Cooperative Extension is excited to unveil our 2026 Coffee Hour Lecture Series — a year of engaging\, seasonal topics designed for gardeners\, nature enthusiasts\, and lifelong learners across the Eastern Shore. \n\n\n\n2026 Topics Include: \n\n\n\n– Jan 23 – Ticks & Their Diseases on the Eastern Shore \n\n\n\n– Feb 20 – History of Agriculture on the Eastern Shore \n\n\n\n– Mar 20 – Planning Your Spring Garden & Plant Exchange \n\n\n\n– Apr 10 – TBD \n\n\n\n– May 22 – Eastern Shore Birds Through the Seasons \n\n\n\n– Jun 26 – Mothing on Virginia’s Eastern Shore \n\n\n\n– Jul 24 – Native Edible & Medicinal Plants \n\n\n\n– Aug 21 – Planning Your Fall Garden & Plant Exchange \n\n\n\n– Sep 18 – Soil Health & Cover Crops \n\n\n\n– Oct 23 – Controlling Invasive Plant Species \n\n\n\nNo registration required — just bring your curiosity and enjoy coffee and conversation with neighbors and experts. \n\n\n\n For accommodations or questions\, contact Agriculture and Natural Resources Extension Agent Helene Doughty at 757-678-7946 or hdoughty@vt.edu
URL:https://www.esmn.org/event/cooperative-extension-coffee-hours-10/
LOCATION:Eastville Community Center\, 17202 Courthouse Road\, Eastville\, Virginia\, 23347
CATEGORIES:Continuing Education
END:VEVENT
BEGIN:VEVENT
DTSTART;TZID=America/New_York:20261023T090000
DTEND;TZID=America/New_York:20261023T100000
DTSTAMP:20260419T210821
CREATED:20260106T220957Z
LAST-MODIFIED:20260106T223755Z
UID:10001434-1792746000-1792749600@www.esmn.org
SUMMARY:💡 Cooperative Extension Coffee Hours
DESCRIPTION:Per Northampton County Cooperative Extension: \n\n\n\nNorthampton Virginia Cooperative Extension is excited to unveil our 2026 Coffee Hour Lecture Series — a year of engaging\, seasonal topics designed for gardeners\, nature enthusiasts\, and lifelong learners across the Eastern Shore. \n\n\n\n2026 Topics Include: \n\n\n\n– Jan 23 – Ticks & Their Diseases on the Eastern Shore \n\n\n\n– Feb 20 – History of Agriculture on the Eastern Shore \n\n\n\n– Mar 20 – Planning Your Spring Garden & Plant Exchange \n\n\n\n– Apr 10 – TBD \n\n\n\n– May 22 – Eastern Shore Birds Through the Seasons \n\n\n\n– Jun 26 – Mothing on Virginia’s Eastern Shore \n\n\n\n– Jul 24 – Native Edible & Medicinal Plants \n\n\n\n– Aug 21 – Planning Your Fall Garden & Plant Exchange \n\n\n\n– Sep 18 – Soil Health & Cover Crops \n\n\n\n– Oct 23 – Controlling Invasive Plant Species \n\n\n\nNo registration required — just bring your curiosity and enjoy coffee and conversation with neighbors and experts. \n\n\n\n For accommodations or questions\, contact Agriculture and Natural Resources Extension Agent Helene Doughty at 757-678-7946 or hdoughty@vt.edu
URL:https://www.esmn.org/event/cooperative-extension-coffee-hours-11/
LOCATION:Eastville Community Center\, 17202 Courthouse Road\, Eastville\, Virginia\, 23347
CATEGORIES:Continuing Education
END:VEVENT
END:VCALENDAR